BEGIN:VCALENDAR
VERSION:2.0
PRODID:-// - ECPv6.15.20//NONSGML v1.0//EN
CALSCALE:GREGORIAN
METHOD:PUBLISH
X-ORIGINAL-URL:https://bass-cafe.com
X-WR-CALDESC:Events for 
REFRESH-INTERVAL;VALUE=DURATION:PT1H
X-Robots-Tag:noindex
X-PUBLISHED-TTL:PT1H
BEGIN:VTIMEZONE
TZID:America/Chicago
BEGIN:DAYLIGHT
TZOFFSETFROM:-0600
TZOFFSETTO:-0500
TZNAME:CDT
DTSTART:20250309T080000
END:DAYLIGHT
BEGIN:STANDARD
TZOFFSETFROM:-0500
TZOFFSETTO:-0600
TZNAME:CST
DTSTART:20251102T070000
END:STANDARD
BEGIN:DAYLIGHT
TZOFFSETFROM:-0600
TZOFFSETTO:-0500
TZNAME:CDT
DTSTART:20260308T080000
END:DAYLIGHT
BEGIN:STANDARD
TZOFFSETFROM:-0500
TZOFFSETTO:-0600
TZNAME:CST
DTSTART:20261101T070000
END:STANDARD
BEGIN:DAYLIGHT
TZOFFSETFROM:-0600
TZOFFSETTO:-0500
TZNAME:CDT
DTSTART:20270314T080000
END:DAYLIGHT
BEGIN:STANDARD
TZOFFSETFROM:-0500
TZOFFSETTO:-0600
TZNAME:CST
DTSTART:20271107T070000
END:STANDARD
END:VTIMEZONE
BEGIN:VEVENT
DTSTART;TZID=America/Chicago:20260711T053000
DTEND;TZID=America/Chicago:20260711T140000
DTSTAMP:20260421T113801
CREATED:20251209T174554Z
LAST-MODIFIED:20251209T205659Z
UID:29353-1783747800-1783778400@bass-cafe.com
SUMMARY:I-Bass - Brushy Creek & The Big Bass Bonanza!
DESCRIPTION:I-Bass Fishing Tournaments\nOn Saturday\, July 11\, 2026\, the Iowa-based I-BASS tournament series is back at Brushy Creek Lake near Fort Dodge—this time for the I-BASS Big Bass Bonanza\, and it’s set up to be pure adrenaline. This isn’t a “slow-build” kind of event. It’s the kind where one bite can rewrite the leaderboard and the entire day feels like it’s on fast-forward. \nBrushy Creek is the perfect stage for a big-bite format: a 690-acre reservoir with a maximum depth around 77.5 feet\, surrounded by one of Iowa’s largest outdoor recreation areas. Iowa DNR Programs+1 Add the fact that it’s no-wake with no size limit and you get a chess match that rewards efficient decision-making—anglers who manage time\, angles\, and rotation are the ones who stay in the hunt. Iowa DNR Programs \nAnd the Big Bass Bonanza energy is different. The format is known for big bass coming in throughout the day and keeping the scales busy—exactly the kind of tournament where momentum can flip in an hour. \nWith Brushy’s reputation as a consistent producer and an angler-favorite stop\, July 11 is shaping up to be one of the most exciting and highly anticipated events of the season. \nI-Bass Fishing Tournaments
URL:https://bass-cafe.com/event/i-bass-brushy-creek-the-big-bass-bonanza/
LOCATION:Brushy Creek\, Fort Dodge\, IA\, 50501\, United States
ATTACH;FMTTYPE=image/png:https://bass-cafe.com/wp-content/uploads/2025/12/ChatGPT-Image-Dec-9-2025-11_49_32-AM.png
END:VEVENT
BEGIN:VEVENT
DTSTART;TZID=America/Chicago:20260711T060000
DTEND;TZID=America/Chicago:20260711T140000
DTSTAMP:20260421T113801
CREATED:20251214T235428Z
LAST-MODIFIED:20251214T235428Z
UID:29401-1783749600-1783778400@bass-cafe.com
SUMMARY:CRBM - Dubuque Pool 11
DESCRIPTION:CRBM – Dubuque Pool 11 Mud Lake Ramp
URL:https://bass-cafe.com/event/crbm-dubuque-pool-11/
LOCATION:Dubuque\, Iowa\, 52002
CATEGORIES:$25 Membership Annually
ATTACH;FMTTYPE=image/png:https://bass-cafe.com/wp-content/uploads/2021/11/CRBM-PNG.png
ORGANIZER;CN="Cedar Rapids Bassmasters":MAILTO:bobh1804@aol.com
END:VEVENT
END:VCALENDAR