BEGIN:VCALENDAR
VERSION:2.0
PRODID:-// - ECPv6.15.20//NONSGML v1.0//EN
CALSCALE:GREGORIAN
METHOD:PUBLISH
X-ORIGINAL-URL:https://bass-cafe.com
X-WR-CALDESC:Events for 
REFRESH-INTERVAL;VALUE=DURATION:PT1H
X-Robots-Tag:noindex
X-PUBLISHED-TTL:PT1H
BEGIN:VTIMEZONE
TZID:America/Chicago
BEGIN:DAYLIGHT
TZOFFSETFROM:-0600
TZOFFSETTO:-0500
TZNAME:CDT
DTSTART:20230312T080000
END:DAYLIGHT
BEGIN:STANDARD
TZOFFSETFROM:-0500
TZOFFSETTO:-0600
TZNAME:CST
DTSTART:20231105T070000
END:STANDARD
BEGIN:DAYLIGHT
TZOFFSETFROM:-0600
TZOFFSETTO:-0500
TZNAME:CDT
DTSTART:20240310T080000
END:DAYLIGHT
BEGIN:STANDARD
TZOFFSETFROM:-0500
TZOFFSETTO:-0600
TZNAME:CST
DTSTART:20241103T070000
END:STANDARD
BEGIN:DAYLIGHT
TZOFFSETFROM:-0600
TZOFFSETTO:-0500
TZNAME:CDT
DTSTART:20250309T080000
END:DAYLIGHT
BEGIN:STANDARD
TZOFFSETFROM:-0500
TZOFFSETTO:-0600
TZNAME:CST
DTSTART:20251102T070000
END:STANDARD
BEGIN:DAYLIGHT
TZOFFSETFROM:-0600
TZOFFSETTO:-0500
TZNAME:CDT
DTSTART:20260308T080000
END:DAYLIGHT
BEGIN:STANDARD
TZOFFSETFROM:-0500
TZOFFSETTO:-0600
TZNAME:CST
DTSTART:20261101T070000
END:STANDARD
END:VTIMEZONE
BEGIN:VEVENT
DTSTART;TZID=America/Chicago:20250531T060000
DTEND;TZID=America/Chicago:20250531T140000
DTSTAMP:20260425T132105
CREATED:20240911T152505Z
LAST-MODIFIED:20240911T153049Z
UID:27062-1748671200-1748700000@bass-cafe.com
SUMMARY:No Nonsense Prairie Bass Series - Prairie Du Chien 2
DESCRIPTION:Event number two of five in your quest for Team of the Year\, NNPBS continues a strong showing in 2025. \nThe largemouth and smallmouth are starting get far more active as summer is just around the corner.  The bed fishing anglers will need to change up their approach as post spawn and migration routes will create many new strategies and approaches to fill those live wells.  It’s about now where the secret spots\, drops and little known points shine! \nThe No Nonsense Prairie Bass Series is a highly anticipated bass tournament that takes place in Prairie du Chien\, Wisconsin. This series is designed to be straightforward and accessible\, with minimal rules and a focus on competitive yet enjoyable fishing experiences. The tournament is held on Pool 10 of the mighty Mississippi River\, providing a challenging and dynamic environment for bass anglers. \nThe series consists of five points tournaments\, each contributing to the overall standings for the Team of the Year award. Points are accumulated based on performance in each tournament\, and the team with the highest total points at the conclusion of the fifth and final points tournament is crowned the Team of the Year. This structure ensures that consistency and skill are rewarded throughout the season. \nDuring these tournaments\, anglers target both largemouth bass and smallmouth bass\, two popular species known for their fighting spirit and the challenge they present. The Mississippi River\, with its diverse habitats and abundant fish populations\, offers an ideal setting for these competitions\, allowing anglers to showcase their skills and strategies in pursuit of the best catches. \nThe No Nonsense Prairie Bass Series is not only about competition but also about fostering a community of passionate anglers who share a love for the sport and the great outdoors. Whether you’re a seasoned pro or a newcomer to bass fishing\, this series provides an excellent opportunity to test your skills and enjoy the camaraderie of fellow anglers.
URL:https://bass-cafe.com/event/no-nonsense-prairie-bass-series-prairie-du-chien-2/
LOCATION:Prairie Du Chien\, Washington Street\, Prairie Du Chien\, WI\, 53821\, United States
CATEGORIES:$25 Membership Annually,Membership Required,No Meetings Required,Winnings Paid Immediately
ATTACH;FMTTYPE=image/png:https://bass-cafe.com/wp-content/uploads/2022/09/NNPBS-icon-e1687805789898.png
ORGANIZER;CN="N.N.P.B.S.":MAILTO:nononsensebass@yahoo.com
END:VEVENT
BEGIN:VEVENT
DTSTART;TZID=America/Chicago:20240811T060000
DTEND;TZID=America/Chicago:20240811T140000
DTSTAMP:20260425T132105
CREATED:20231017T183618Z
LAST-MODIFIED:20231017T183707Z
UID:24680-1723356000-1723384800@bass-cafe.com
SUMMARY:Weekend Warriors Solo Series (Q5) - Brushy Creek
DESCRIPTION:The final qualifier for 2024 is perfectly scheduled for Brushy Creek. \nAugust 11\, 2024 \n  \n 
URL:https://bass-cafe.com/event/weekend-warriors-solo-series-q5-brushy-creek/
LOCATION:Brushy Creek\, Fort Dodge\, IA\, 50501\, United States
CATEGORIES:Limited boats,Solo,Winnings Paid Immediately
ATTACH;FMTTYPE=image/png:https://bass-cafe.com/wp-content/uploads/2021/09/Weekend-Warriors-Bass-Tournaments.png
END:VEVENT
BEGIN:VEVENT
DTSTART;TZID=America/Chicago:20240721T060000
DTEND;TZID=America/Chicago:20240721T140000
DTSTAMP:20260425T132105
CREATED:20231017T182726Z
LAST-MODIFIED:20231017T182726Z
UID:24676-1721541600-1721570400@bass-cafe.com
SUMMARY:Weekend Warriors Solo Series - (Q4) Rathbun
DESCRIPTION:Launch will be from Honey Creek \nWeekend Warriors fourth qualifier for 2024 will surely be a tournament to remember.  A rare visit to Rathbun will make for some serious pre fishing and strategizing.  The big water will have everything from drop shot specialist to shallow water power fishing! \nOften know for it’s excellent crappie fishing\, Rathbun lake hold some monster Iowa bass!  Weekend Warriors come back together after the King of the Hill to give Lake Rathbun everything it can handle! \nAs always\, check with your tournament directors for exact launch and weigh in times.
URL:https://bass-cafe.com/event/weekend-warriors-solo-series-q4-rathbun/
LOCATION:Rathbun\, Rathbun\, IA\, 52544\, United States
CATEGORIES:Pay up front to fish series,Solo,Winnings Paid Immediately
ATTACH;FMTTYPE=image/png:https://bass-cafe.com/wp-content/uploads/2021/09/Weekend-Warriors-Bass-Tournaments.png
END:VEVENT
BEGIN:VEVENT
DTSTART;TZID=America/Chicago:20240622T060000
DTEND;TZID=America/Chicago:20240622T140000
DTSTAMP:20260425T132105
CREATED:20231011T134333Z
LAST-MODIFIED:20231011T134333Z
UID:24588-1719036000-1719064800@bass-cafe.com
SUMMARY:Non Nonsense Prairie Bass Series - 3 of 5
DESCRIPTION:NNPBS head into event three of five for 2024!  The teams near the top better stay on it as the mid pack teams always make their push as summer starts to heat up the backwaters at Prairie du Chien\, Wisconsin.  Strategies shift as bass begin to move toward their long hot summer neighborhoods. \nThere’s no doubt the top water frogs will be flying high as temperatures follow suit.  Power fishing becomes a driving factor as weights start to tip the scales in one of the most competitive events for NNPBS. \nWith plenty of sponsors teams who almost make the money are often rewarded with gift packs\, gift cards or relevant baits donated by multiple companies. \nThe staff make every effort to get to know the 90 plus teams throughout the year and are genuinely grateful for your participation. \nIf you don’t qualify after fishing all five events you get one last change to make their Classic by fishing the Wildcard event.  This Wildcard event is a nice touch to reward dedication and effort from some excellent teams who just had some bad luck.  A nice touch that makes for an excellent two day Classic! \nIf you want to fish the Mississippi river\, you need to fish with this series and experience all the challenges the great Mississippi river has to offer.
URL:https://bass-cafe.com/event/non-nonsense-prairie-bass-series-3-of-5/
LOCATION:Prairie Du Chien\, Washington Street\, Prairie Du Chien\, WI\, 53821\, United States
CATEGORIES:$25 Membership Annually,Winnings Paid Immediately
ATTACH;FMTTYPE=image/png:https://bass-cafe.com/wp-content/uploads/2022/09/NNPBS-icon-e1687805789898.png
ORGANIZER;CN="N.N.P.B.S.":MAILTO:nononsensebass@yahoo.com
END:VEVENT
BEGIN:VEVENT
DTSTART;TZID=America/Chicago:20240616T060000
DTEND;TZID=America/Chicago:20240616T140000
DTSTAMP:20260425T132105
CREATED:20231017T181916Z
LAST-MODIFIED:20231017T181916Z
UID:24673-1718517600-1718546400@bass-cafe.com
SUMMARY:Weekend Warriors Solo Series (Q3) - Big Creek
DESCRIPTION:Launch from West Circle Ramp \nLaunch and weigh in times are subject to change.  Please contact Weekend Warriors for exact and up to date times. \nWeekend Warriors Solo Series 2024
URL:https://bass-cafe.com/event/weekend-warriors-solo-series-q3-big-creek/
LOCATION:Big Creek\, Iowa
CATEGORIES:Limited boats,Solo,Winnings Paid Immediately
ATTACH;FMTTYPE=image/png:https://bass-cafe.com/wp-content/uploads/2021/09/Weekend-Warriors-Bass-Tournaments.png
END:VEVENT
BEGIN:VEVENT
DTSTART;TZID=America/Chicago:20240601T060000
DTEND;TZID=America/Chicago:20240601T140000
DTSTAMP:20260425T132105
CREATED:20231011T131600Z
LAST-MODIFIED:20231011T133059Z
UID:24576-1717221600-1717250400@bass-cafe.com
SUMMARY:No Nonsense Prairie Bass Series - 2 of 5
DESCRIPTION:NNPBS head into event number two for 2024! \nEasily the most fished Iowa based series in 2023\, this tournament series out paces all others in the state as it pertains to high boat counts\, a highly competitive angler base with no repeat winners to date and nice payouts for top teams. \nWith plenty of sponsors teams who almost make the money are often rewarded with gift packs\, gift cards or relevant baits donated by multiple companies. \nThe staff make every effort to get to know the 90 plus teams throughout the year and are genuinely grateful for your participation. \nIf you don’t qualify after fishing all five events you get one last change to make their Classic by fishing the Wildcard event.  This Wildcard event is a nice touch to reward dedication and effort from some excellent teams who just had some bad luck.  A nice touch that makes for an excellent two day Classic! \nIf you want to fish the Mississippi river\, you need to fish with this series and experience all the challenges the great Mississippi river has to offer.
URL:https://bass-cafe.com/event/no-nonsense-prairie-bass-series-2-of-5/
LOCATION:Prairie Du Chien\, Washington Street\, Prairie Du Chien\, WI\, 53821\, United States
CATEGORIES:$10 Membership,Winnings Paid Immediately
ATTACH;FMTTYPE=image/png:https://bass-cafe.com/wp-content/uploads/2022/09/NNPBS-icon-e1687805789898.png
ORGANIZER;CN="N.N.P.B.S.":MAILTO:nononsensebass@yahoo.com
END:VEVENT
END:VCALENDAR